BEGIN:VCALENDAR
VERSION:2.0
PRODID:-//LIP - ECPv6.15.20//NONSGML v1.0//EN
CALSCALE:GREGORIAN
METHOD:PUBLISH
X-ORIGINAL-URL:https://liplanarkrenfrew.ca
X-WR-CALDESC:Events for LIP
REFRESH-INTERVAL;VALUE=DURATION:PT1H
X-Robots-Tag:noindex
X-PUBLISHED-TTL:PT1H
BEGIN:VTIMEZONE
TZID:America/Toronto
BEGIN:DAYLIGHT
TZOFFSETFROM:-0500
TZOFFSETTO:-0400
TZNAME:EDT
DTSTART:20250309T070000
END:DAYLIGHT
BEGIN:STANDARD
TZOFFSETFROM:-0400
TZOFFSETTO:-0500
TZNAME:EST
DTSTART:20251102T060000
END:STANDARD
BEGIN:DAYLIGHT
TZOFFSETFROM:-0500
TZOFFSETTO:-0400
TZNAME:EDT
DTSTART:20260308T070000
END:DAYLIGHT
BEGIN:STANDARD
TZOFFSETFROM:-0400
TZOFFSETTO:-0500
TZNAME:EST
DTSTART:20261101T060000
END:STANDARD
BEGIN:DAYLIGHT
TZOFFSETFROM:-0500
TZOFFSETTO:-0400
TZNAME:EDT
DTSTART:20270314T070000
END:DAYLIGHT
BEGIN:STANDARD
TZOFFSETFROM:-0400
TZOFFSETTO:-0500
TZNAME:EST
DTSTART:20271107T060000
END:STANDARD
END:VTIMEZONE
BEGIN:VEVENT
DTSTART;VALUE=DATE:20260608
DTEND;VALUE=DATE:20260622
DTSTAMP:20260425T124412
CREATED:20260422T133148Z
LAST-MODIFIED:20260423T141958Z
UID:10757-1780876800-1782086399@liplanarkrenfrew.ca
SUMMARY:Pembroke Public Library Engagement Activities
DESCRIPTION:[vc_row][vc_column][vc_column_text css=””] \nFrom the 8th to the 21st of June\, the Pembroke Public Library has lots activities for the community to engage in as part of the 2026 summer edition of Culture Connect:\nSpill the Tea: Tea is a drink enjoyed around the globe. Stop by the Library to pick up your mystery take-and-make kit with a selection of teas to try and enjoy. Learn about different teas and cultural traditions using the resources in your kit. \nKits are available for pick-up. No registration required.Kits are available while supplies last. \nLibrary Hours:Mon–Thurs 10 am–8 pmFri & Sat 10 am–5:30 pmSun – Closed \n[/vc_column_text][/vc_column][/vc_row]
URL:https://liplanarkrenfrew.ca/event/pembroke-public-library-engagement-activities-2/
LOCATION:Pembroke Public Library\, 237 Victoria Street\, Pembroke\, ON\, K8A 1B3\, Canada
CATEGORIES:Culture Connect
ATTACH;FMTTYPE=image/png:https://liplanarkrenfrew.ca/wp-content/uploads/2026/04/Pembroke-PL.png
END:VEVENT
BEGIN:VEVENT
DTSTART;VALUE=DATE:20260608
DTEND;VALUE=DATE:20260622
DTSTAMP:20260425T124412
CREATED:20260422T134223Z
LAST-MODIFIED:20260423T141926Z
UID:10759-1780876800-1782086399@liplanarkrenfrew.ca
SUMMARY:Killaloe & District Public Library Engagement Activities
DESCRIPTION:[vc_row][vc_column][vc_column_text css=””] \nFrom the 8th to the 21st of June\, the Killaloe & District Public Library has lots activities for the community to engage in as part of the 2026 summer edition of Culture Connect:\nWelcome Rock Painting: Stop by the Library to pick up your take-and-make kit and create a welcoming design to share with the community. \nKits are available for pick-up. No registration required.Kits are available while supplies last. \nLanguage Learning Lab: Join the library for an interactive session exploring language and culture. \nDate and Time: TBDRegistration is required. \nCulture Connect Movie Night: Gather with the community for a film screening celebrating culture and storytelling. \nDate and Time: date TBD\, 6:30–8:30 pm.No registration required. \nSpill the Tea: Pick up a tea kit and explore global tea traditions. \nKits are available for pick-up. No registration required.Kits are available while supplies last. \nLanguage Carousel Storytime: A storytime experience exploring language and culture through storytelling. \nDate and Time: May 8\, 11:15–11:45 am.No registration required. \nLibrary Hours:Tues 11 am–4 pmWed 11 am–4 pmThurs 1 pm–6 pmSat 11 am–4 pmSun\, Mon\, Fri – Closed \n[/vc_column_text][/vc_column][/vc_row]
URL:https://liplanarkrenfrew.ca/event/killaloe-district-public-library-engagement-activities-2/
LOCATION:Killaloe & District Public Library\, 1 John Street\, Killaloe\, ON\, K0J 2A0\, Canada
CATEGORIES:Culture Connect
ATTACH;FMTTYPE=image/png:https://liplanarkrenfrew.ca/wp-content/uploads/2026/04/Killaloe-PL.png
END:VEVENT
BEGIN:VEVENT
DTSTART;VALUE=DATE:20260608
DTEND;VALUE=DATE:20260622
DTSTAMP:20260425T124412
CREATED:20260422T134425Z
LAST-MODIFIED:20260423T141849Z
UID:10761-1780876800-1782086399@liplanarkrenfrew.ca
SUMMARY:Renfrew Public Library Engagement Activities
DESCRIPTION:[vc_row][vc_column][vc_column_text css=””] \nFrom the 8th to the 21st of June\, the Renfrew Public Library has lots activities for the community to engage in as part of the 2026 summer edition of Culture Connect:\nWelcome Rock Painting: Stop by the Library to pick up your take-and-make kit and create a welcoming design. \nKits are available for pick-up. No registration required.Kits are available while supplies last. \nSpill the Tea: Pick up a tea kit and explore different tea traditions. \nKits are available for pick-up. No registration required.Kits are available while supplies last. \nLibrary Hours:Mon\, Wed\, Fri 9 am–5 pmThurs 10 am–8 pmSat 9 am–3:30 pmSun & Tues – Closed \n[/vc_column_text][/vc_column][/vc_row]
URL:https://liplanarkrenfrew.ca/event/renfrew-public-library-engagement-activities-2/
LOCATION:Renfrew Public Library\, 13 Railway Ave.\, Renfrew\, Ontario\, K7V 3A9\, Canada
CATEGORIES:Culture Connect
ATTACH;FMTTYPE=image/png:https://liplanarkrenfrew.ca/wp-content/uploads/2026/04/Renfrew-PL.png
END:VEVENT
BEGIN:VEVENT
DTSTART;VALUE=DATE:20260608
DTEND;VALUE=DATE:20260622
DTSTAMP:20260425T124412
CREATED:20260422T134937Z
LAST-MODIFIED:20260423T141821Z
UID:10765-1780876800-1782086399@liplanarkrenfrew.ca
SUMMARY:Petawawa Public Library Engagement Activities
DESCRIPTION:[vc_row][vc_column][vc_column_text css=””] \nFrom the 8th to the 21st of June\, the Petawawa Public Library has lots activities for the community to engage in as part of the 2026 summer edition of Culture Connect:\nWelcome Rock Painting: Stop by the Library to pick up your take-and-make kit and create a welcoming design. \nRegistration is required.Kits are available while supplies last. \nSpill the Tea: Pick up a tea kit and explore global tea traditions. \nKits are available for pick-up. No registration required.Kits are available while supplies last. \nLibrary Hours:Mon–Thurs 10 am–8 pmFri 10 am–6 pmSat 10 am–5 pmSun – Closed \n[/vc_column_text][/vc_column][/vc_row]
URL:https://liplanarkrenfrew.ca/event/petawawa-public-library-engagement-activities-2/
LOCATION:Petawawa Public Library\, 16 Civic Centre Road\, Petawawa\, Ontario\, K8H 3H5\, Canada
CATEGORIES:Culture Connect
ATTACH;FMTTYPE=image/png:https://liplanarkrenfrew.ca/wp-content/uploads/2026/04/Petawawa-PL.png
END:VEVENT
BEGIN:VEVENT
DTSTART;VALUE=DATE:20260608
DTEND;VALUE=DATE:20260622
DTSTAMP:20260425T124412
CREATED:20260422T135140Z
LAST-MODIFIED:20260423T141739Z
UID:10767-1780876800-1782086399@liplanarkrenfrew.ca
SUMMARY:Deep River Public Library Engagement Activities
DESCRIPTION:[vc_row][vc_column][vc_column_text css=””] \nFrom the 8th to the 21st of June\, the Deep River Public Library has lots activities for the community to engage in as part of the 2026 summer edition of Culture Connect:\nCulture Connect Movie Night: Join the library for a film screening celebrating culture and community. \nDate and Time: June 16.No registration required. \nSpill the Tea: Pick up a tea kit and explore tea traditions from around the world. \nKits are available for pick-up. No registration required.Kits are available while supplies last. \nOrigami or Paper Folding Activity: Participate in a creative paper folding activity inspired by global traditions. \nAvailable in-library. \nLibrary Hours:Mon\, Wed\, Fri 10 am–5:30 pmTues & Thurs 10 am–8 pmSat 10 am–3 pmSun – Closed \n[/vc_column_text][/vc_column][/vc_row]
URL:https://liplanarkrenfrew.ca/event/deep-river-public-library-engagement-activities-2/
LOCATION:Deep River Public Library\, 55 Rd Ridge\, Deep River\, Ontario\, K0J 1P0\, Canada
CATEGORIES:Culture Connect
ATTACH;FMTTYPE=image/png:https://liplanarkrenfrew.ca/wp-content/uploads/2026/04/AC-Pembroke-2.png
END:VEVENT
BEGIN:VEVENT
DTSTART;VALUE=DATE:20260608
DTEND;VALUE=DATE:20260622
DTSTAMP:20260425T124412
CREATED:20260422T135533Z
LAST-MODIFIED:20260423T141650Z
UID:10769-1780876800-1782086399@liplanarkrenfrew.ca
SUMMARY:Mississippi Mills Public Library Engagement Activities
DESCRIPTION:[vc_row][vc_column][vc_column_text css=””] \nFrom the 8th to the 21st of June\, the Mississippi Mills Public Library has lots activities for the community to engage in as part of the 2026 summer edition of Culture Connect:\nWelcome Rock Painting: Join the library in person to create your rock painting. \nDates: June 6 (Pakenham Branch) & June 13 (Almonte Branch).No registration required. \nSpill the Tea: Pick up a tea kit and explore tea traditions. \nKits are available for pick-up. No registration required.Kits are available while supplies last. \nLibrary Hours:Mon 10 am–5 pmTues 10 am–7 pmWed 10 am–5 pmThurs 10 am–7 pmFri 10 am–5 pmSat & Sun 10 am–2 pm \n[/vc_column_text][/vc_column][/vc_row]
URL:https://liplanarkrenfrew.ca/event/mississippi-mills-public-library-engagement-activities-2/
LOCATION:Mississippi Mills Public Library\, Almonte\, 155 High St\, Almonte\, ON\, K0A 1A0\, Canada
CATEGORIES:Culture Connect
ATTACH;FMTTYPE=image/png:https://liplanarkrenfrew.ca/wp-content/uploads/2026/04/Mississippi-Mills-PL-1.png
END:VEVENT
BEGIN:VEVENT
DTSTART;VALUE=DATE:20260608
DTEND;VALUE=DATE:20260622
DTSTAMP:20260425T124412
CREATED:20260422T140934Z
LAST-MODIFIED:20260423T141536Z
UID:10772-1780876800-1782086399@liplanarkrenfrew.ca
SUMMARY:Carleton Place Public Library Engagement Activities
DESCRIPTION:[vc_row][vc_column][vc_column_text css=””] \nFrom the 8th to the 21st of June\, the Carleton Place Public Library has lots activities for the community to engage in as part of the 2026 summer edition of Culture Connect:\nWelcome Rock Painting: Stop by the Library to pick up your take-and-make kit. \nKits are available for pick-up. No registration required.Kits are available while supplies last. \nSpill the Tea: Pick up a tea kit and explore global tea traditions. \nKits are available for pick-up. No registration required.Kits are available while supplies last. \nLibrary Hours:Mon-Thurs: 10:30 am to 8:00 pm\nFri-Sat: 10:00 am to 5:30 pm\nSun: Closed \n[/vc_column_text][/vc_column][/vc_row]
URL:https://liplanarkrenfrew.ca/event/carleton-place-public-library-engagement-activities-2/
LOCATION:Carleton Place Public Library\, 101 Beckwith St\, Carleton Place\, ON\, K7C 2T3\, Canada
CATEGORIES:Culture Connect
ATTACH;FMTTYPE=image/png:https://liplanarkrenfrew.ca/wp-content/uploads/2026/04/AC-Pembroke-3.png
END:VEVENT
BEGIN:VEVENT
DTSTART;VALUE=DATE:20260608
DTEND;VALUE=DATE:20260622
DTSTAMP:20260425T124412
CREATED:20260422T141959Z
LAST-MODIFIED:20260423T141510Z
UID:10774-1780876800-1782086399@liplanarkrenfrew.ca
SUMMARY:Madawaska Public Library Engagement Activities
DESCRIPTION:[vc_row][vc_column][vc_column_text css=””] \nFrom the 8th to the 21st of June\, the Greater Madawaska Public Library has lots activities for the community to engage in as part of the 2026 summer edition of Culture Connect:\nWelcome Rock Painting: Stop by the Library to pick up your take-and-make kit. \nKits are available while supplies last. \nLanguage Learning Lab: Join an interactive session exploring language and culture. \nDate and Time: June 12 at 10 am.Registration is required. \nCulture Connect Movie Night: Join the library for a community film screening. \nDate and Time: June 10 at 2 pm.No registration required. \nSpill the Tea: Pick up a tea kit and explore global tea traditions. \nKits are available for pick-up. No registration required.Kits are available while supplies last. \nLibrary Hours:Tues & Wed 9 am–6 pmThurs & Fri 9 am–1 pmSat 9 am–2 pmSun & Mon – Closed \n[/vc_column_text][/vc_column][/vc_row]
URL:https://liplanarkrenfrew.ca/event/madawaska-public-library-engagement-activities/
LOCATION:Greater Madawaska Public Library\, 12629 Lanark Rd K0J 1H0\, Calabogie\, ON\, K0J 1H0\, Canada
CATEGORIES:Culture Connect
ATTACH;FMTTYPE=image/png:https://liplanarkrenfrew.ca/wp-content/uploads/2026/04/Killaloe-District-Public-Library-CC-Activities-.png
END:VEVENT
END:VCALENDAR