BEGIN:VCALENDAR
VERSION:2.0
PRODID:-//LIP - ECPv6.15.20//NONSGML v1.0//EN
CALSCALE:GREGORIAN
METHOD:PUBLISH
X-ORIGINAL-URL:https://liplanarkrenfrew.ca
X-WR-CALDESC:Events for LIP
REFRESH-INTERVAL;VALUE=DURATION:PT1H
X-Robots-Tag:noindex
X-PUBLISHED-TTL:PT1H
BEGIN:VTIMEZONE
TZID:America/Toronto
BEGIN:DAYLIGHT
TZOFFSETFROM:-0500
TZOFFSETTO:-0400
TZNAME:EDT
DTSTART:20240310T070000
END:DAYLIGHT
BEGIN:STANDARD
TZOFFSETFROM:-0400
TZOFFSETTO:-0500
TZNAME:EST
DTSTART:20241103T060000
END:STANDARD
BEGIN:DAYLIGHT
TZOFFSETFROM:-0500
TZOFFSETTO:-0400
TZNAME:EDT
DTSTART:20250309T070000
END:DAYLIGHT
BEGIN:STANDARD
TZOFFSETFROM:-0400
TZOFFSETTO:-0500
TZNAME:EST
DTSTART:20251102T060000
END:STANDARD
BEGIN:DAYLIGHT
TZOFFSETFROM:-0500
TZOFFSETTO:-0400
TZNAME:EDT
DTSTART:20260308T070000
END:DAYLIGHT
BEGIN:STANDARD
TZOFFSETFROM:-0400
TZOFFSETTO:-0500
TZNAME:EST
DTSTART:20261101T060000
END:STANDARD
END:VTIMEZONE
BEGIN:VEVENT
DTSTART;TZID=America/Toronto:20251023T180000
DTEND;TZID=America/Toronto:20251023T193000
DTSTAMP:20260426T002754
CREATED:20250909T130017Z
LAST-MODIFIED:20250909T130017Z
UID:10063-1761242400-1761247800@liplanarkrenfrew.ca
SUMMARY:Film Screening: “Lanark County Voices … There’s a Place for Me Here”
DESCRIPTION:[vc_row][vc_column][vc_column_text css=””]Join us for the screening of “Lanark County Voices … There’s a Place for Me Here\,” an inspiring documentary that shares the voices of thirteen members of the 2SLGBTQIA+ community living in Lanark County. Through their stories of belonging\, challenges\, and hope for the future\, this film captures both the progress made and the work still ahead in creating a welcoming community for all. \nWe are honoured to be offering this screening in partnership with Queer Connection Lanark and the Carleton Place Public Library. This event is a part of the Local Immigration Partnership’s Culture Connect event series – fall edition. \nAbout Queer Connection Lanark\nQueer Connection Lanark County works to increase the visibility and inclusion of the 2SLGBTQI+ community. Since 2014\, they have built on the legacy of earlier local organizations to make Lanark County a welcoming place for people of all genders and orientations. Queer Connection Lanark proudly collaborates with community committees and celebrates the work of Pride Committees in Carleton Place\, Mississippi Mills\, Smiths Falls\, and Perth. If you would like to learn more or contribute by way of donation to the great work of Queer Connection Lanark\, visit their website here – https://www.queerconnectionlanark.ca/ \n  \nLight refreshments will be served. \nRegistration is required – Please register HERE or in person at the Carleton Place Public Library. \n[/vc_column_text][/vc_column][/vc_row]
URL:https://liplanarkrenfrew.ca/event/film-screening-lanark-county-voices-theres-a-place-for-me-here/
LOCATION:Carleton Place Public Library\, 101 Beckwith St\, Carleton Place\, ON\, K7C 2T3\, Canada
CATEGORIES:Culture Connect
ATTACH;FMTTYPE=image/jpeg:https://liplanarkrenfrew.ca/wp-content/uploads/2025/09/GS-Socials-General.jpg
END:VEVENT
BEGIN:VEVENT
DTSTART;TZID=America/Toronto:20251026T133000
DTEND;TZID=America/Toronto:20251026T150000
DTSTAMP:20260426T002754
CREATED:20250924T140113Z
LAST-MODIFIED:20250924T140441Z
UID:10066-1761485400-1761490800@liplanarkrenfrew.ca
SUMMARY:Crowned: A Hair Wrapping Tutorial - Arnprior
DESCRIPTION:[vc_row][vc_column][vc_column_text css=””]Honour Your Roots. Adorn Your Crown. Wrap in Your Power.  \nCrowned is a soulful gathering that blends tradition\, storytelling\, and hands-on hair wrapping. Whether you’re a long-time wrapper or new to the art\, this event invites you into a space of beauty\, ancestral wisdom\, and collective joy. You’ll learn styling techniques\, the cultural histories behind wraps\, and explore the ways hair adornment can be a ritual of self-love\, protection\, and expression.  \nTogether we’ll sip tea\, share stories\, and crown ourselves\, intentionally\, powerfully\, and beautifully.  \nWhat’s Included:  \n\n1 beautiful head wraps (patterns\, colours\, and fabrics to choose from)\nLive tutorial on multiple wrapping techniques \nA wrap + mirror self-ritual guide \nTea + light refreshments \nAccess to a mini photo corner to capture your crowned look \nA link to the history\, resistance\, and reclamation of hair wrapping across cultures \nA card or affirmation scroll to tuck into your wrap \nCommunity circle to share\, witness\, and celebrate \n\n This is a free event. Registration is required.  \nPlease register HERE[/vc_column_text][/vc_column][/vc_row]
URL:https://liplanarkrenfrew.ca/event/10066/
LOCATION:Arnprior & District Museum\, 35 Madawaska St\, Arnprior\, ON\, K7S 1R6\, Canada
CATEGORIES:Culture Connect
ATTACH;FMTTYPE=image/png:https://liplanarkrenfrew.ca/wp-content/uploads/2025/09/Culture-Connect-Eventbrite-Banners.png
END:VEVENT
END:VCALENDAR