BEGIN:VCALENDAR
VERSION:2.0
PRODID:-//LIP - ECPv6.15.20//NONSGML v1.0//EN
CALSCALE:GREGORIAN
METHOD:PUBLISH
X-ORIGINAL-URL:https://liplanarkrenfrew.ca
X-WR-CALDESC:Events for LIP
REFRESH-INTERVAL;VALUE=DURATION:PT1H
X-Robots-Tag:noindex
X-PUBLISHED-TTL:PT1H
BEGIN:VTIMEZONE
TZID:America/Toronto
BEGIN:DAYLIGHT
TZOFFSETFROM:-0500
TZOFFSETTO:-0400
TZNAME:EDT
DTSTART:20250309T070000
END:DAYLIGHT
BEGIN:STANDARD
TZOFFSETFROM:-0400
TZOFFSETTO:-0500
TZNAME:EST
DTSTART:20251102T060000
END:STANDARD
BEGIN:DAYLIGHT
TZOFFSETFROM:-0500
TZOFFSETTO:-0400
TZNAME:EDT
DTSTART:20260308T070000
END:DAYLIGHT
BEGIN:STANDARD
TZOFFSETFROM:-0400
TZOFFSETTO:-0500
TZNAME:EST
DTSTART:20261101T060000
END:STANDARD
BEGIN:DAYLIGHT
TZOFFSETFROM:-0500
TZOFFSETTO:-0400
TZNAME:EDT
DTSTART:20270314T070000
END:DAYLIGHT
BEGIN:STANDARD
TZOFFSETFROM:-0400
TZOFFSETTO:-0500
TZNAME:EST
DTSTART:20271107T060000
END:STANDARD
END:VTIMEZONE
BEGIN:VEVENT
DTSTART;TZID=America/Toronto:20260204T190000
DTEND;TZID=America/Toronto:20260204T210000
DTSTAMP:20260425T201007
CREATED:20260128T194108Z
LAST-MODIFIED:20260128T194108Z
UID:10271-1770231600-1770238800@liplanarkrenfrew.ca
SUMMARY:Equity\, Diversity\, Inclusion\, and Belonging: Unleashing the Power of Belonging
DESCRIPTION:Embark on an inspiring journey with Kwame Osei as he shares personal stories that shed light on the transformative influence of Equity\, Diversity\, Inclusion and Belonging. With authenticity and passion\, Kwame recounts his own experiences of facing the damaging effects caused by a lack of diversity and inclusion\, illustrating the profound impact it had on his mental\, social\, and emotional well-being. In this captivating presentation\, Kwame delves into the essence of an inclusive workspace\, providing a comprehensive understanding of what it entails and why it is crucial. Drawing from his own insights and experiences\, he equips the audience with practical knowledge and actionable steps to foster a diverse workplace culture & workforce that cultivates cultural competence and understanding. \nKwame unveils strategies and practices that promote an inclusive culture\, allowing individuals to flourish and contribute their unique strengths. Through his engaging delivery\, Kwame empowers participants to embrace diversity\, dismantle barriers and foster a sense of belonging for all. Kwame Osei shares his enlightening journey and learns how to create a culture that celebrates differences and welcomes everyone. Discover the immense value of building an inclusive environment that boosts productivity\, creativity\, and empathy. Unlock the potential of Equity\, Diversity\, Inclusion and Belonging within your organization\, fostering an atmosphere where every individual thrives and achieves remarkable success through an inclusive\, diverse & accepting environment. \nBiography\nKwame Osei is a dynamic professional host & keynote speaker for seminars\, corporate & school events\, youth & charitable events & non-profit organizations. Kwame Osei was awarded a Queen’s Platinum Jubilee pin for his significant contribution as a teacher and mentor to inmates of maximum security in his community by Her Majesty Queen Elizabeth II. Kwame Osei’s presentations focus on inspiring change\, action and growth\, pushing people to broaden their perspective and take control of their personal growth. After being exposed to the street culture of Rexdale\, Toronto\, Kwame used the power of sport and the sports mindset to overcome all obstacles to become a CFL player\, teacher\, football coach\, entrepreneur and community leader. Kwame Osei is a dynamic keynote speaker who teaches fundamental tools he learned throughout his life to empower others through a diverse lens \n  \nREGISTER HERE
URL:https://liplanarkrenfrew.ca/event/equity-diversity-inclusion-and-belonging-unleashing-the-power-of-belonging/
LOCATION:Algonquin College – Pembroke Campus\, 1 College Way\, Pembroke\, ON\, K8A 0C8\, Canada
CATEGORIES:Category Event
ATTACH;FMTTYPE=image/jpeg:https://liplanarkrenfrew.ca/wp-content/uploads/2026/01/JBSS-Kwame-Osei.jpg
END:VEVENT
BEGIN:VEVENT
DTSTART;TZID=America/Toronto:20260219T190000
DTEND;TZID=America/Toronto:20260219T210000
DTSTAMP:20260425T201007
CREATED:20260128T201220Z
LAST-MODIFIED:20260128T201220Z
UID:10275-1771527600-1771534800@liplanarkrenfrew.ca
SUMMARY:WAR - The Great Forgetting
DESCRIPTION:As William Faulkner said\, ‘The past is never dead. It’s not even past.’ \nIt was the Americans\, after the Second World War\, who led the way in creating a new international system in which aggressive war became a crime and it was illegal for even the greatest powers to change borders by force. And it worked: no great power has directly fought any other great power for the past eighty years. Their proxies have clashed occasionally and lots of little countries have fought little wars\, but no nuclear weapon has been used in war since August 1945. Few people alive then would have dared to believe we could do so well. Alas\, it is also the Americans who are leading the way back towards the undead\, perpetually violent\, rule-free past. \nFrom tragedy to farce – from George Bush invading Iraq to Vladimir Putin invading Ukraine to Donald Trump stumbling around in Venezuela – the old ways are coming back and the new rules are being trampled into the dirt. Whether we blame just a few foolish leaders or an entire generation that has forgotten the bitter lessons of the 20th century\, we are in deep trouble now. The global cooperation that is needed to cope with climate change is sliding out of reach\, and great-power war is thinkable again. We can still change course\, but the key thing is to understand the nature of war. We inherited it from our human and pre-human ancestors\, but Einstein was right: nuclear weapons have already changed everything except the way we think. We could always change our minds\, too \nWe are engaged in an involuntary planet-wide experiment. Can the human species\, which evolved to live only in small groups but now lives in groups up to a billion strong\, eliminate the deeply rooted and universally shared cluster of behaviors involving territoriality and violence that we call ‘war’? Those behaviours were functional for hunter-gatherers\, but now they threaten our future. Human beings recognised that problem in the mid-20th century and came up with some useful responses. Some high-profile major players are now seeking to destroy the ‘international rule of law’\, but not all is lost. The great majority of countries and of people still support it\, and the outcome is still in doubt. \nBiography\nGWYNNE DYER has worked as a freelance journalist\, columnist\, broadcaster and lecturer on international affairs for most of his adult life\, but he was originally trained as an historian. He was born in Newfoundland and received degrees from Canadian\, American and British universities\, finishing with a Ph.D. in Military and Middle Eastern History from the University of London. He served in three navies and held academic appointments at the Canadian Forces College\, the Royal Military Academy Sandhurst and Oxford University before giving up the day jobs in favour of a twice-weekly column on international affairs that is published in more than 20 countries. His first television series\, the seven-part documentary ‘War’\, was aired in 45 countries. One episode\, ‘The Profession of Arms’\, was nominated for an Academy Award. His more recent television works include the Gemini Award-winning series ‘The Human Race’. He has written eleven books (most of them Canadian best-sellers) on war\, international politics and climate. The most recent ones are ‘The Shortest History of War’ (2022) and ‘Intervention Earth’ (2024). He has spoken in most BC high schools\, some of them many times. Dr Dyer lives in London. In 2010\, he was made an officer of the Order of Canada. \n  \nREGISTER HERE
URL:https://liplanarkrenfrew.ca/event/war-the-great-forgetting/
LOCATION:Algonquin College – Pembroke Campus\, 1 College Way\, Pembroke\, ON\, K8A 0C8\, Canada
CATEGORIES:Category Event
ATTACH;FMTTYPE=image/jpeg:https://liplanarkrenfrew.ca/wp-content/uploads/2026/01/Gwynne-Dyer.jpg
END:VEVENT
END:VCALENDAR